BEGIN:VCALENDAR
VERSION:2.0
PRODID:-//Cloisons du midi - ECPv6.5.0//NONSGML v1.0//EN
CALSCALE:GREGORIAN
METHOD:PUBLISH
X-ORIGINAL-URL:https://cloisonsdumidi.com
X-WR-CALDESC:évènements pour Cloisons du midi
REFRESH-INTERVAL;VALUE=DURATION:PT1H
X-Robots-Tag:noindex
X-PUBLISHED-TTL:PT1H
BEGIN:VTIMEZONE
TZID:Europe/Paris
BEGIN:DAYLIGHT
TZOFFSETFROM:+0100
TZOFFSETTO:+0200
TZNAME:CEST
DTSTART:20240331T010000
END:DAYLIGHT
BEGIN:STANDARD
TZOFFSETFROM:+0200
TZOFFSETTO:+0100
TZNAME:CET
DTSTART:20241027T010000
END:STANDARD
END:VTIMEZONE
BEGIN:VEVENT
DTSTART;TZID=Europe/Paris:20240614T113000
DTEND;TZID=Europe/Paris:20240614T123000
DTSTAMP:20260419T201457
CREATED:20240528T090303Z
LAST-MODIFIED:20240528T090312Z
UID:10000003-1718364600-1718368200@cloisonsdumidi.com
SUMMARY:Learning from conflict: mobile genetic elements shed light on the function of bacterial natural transformation
DESCRIPTION:Invité : Eric Cascales (LISM)
URL:https://cloisonsdumidi.com/event/learning-from-conflict-mobile-genetic-elements-shed-light-on-the-function-of-bacterial-natural-transformation/
LOCATION:Salle de conférence : Salle Jacques Senez (Bâtiment IM)
CATEGORIES:Séminaires
END:VEVENT
BEGIN:VEVENT
DTSTART;TZID=Europe/Paris:20240612T080000
DTEND;TZID=Europe/Paris:20240718T170000
DTSTAMP:20260419T201458
CREATED:20240528T085254Z
LAST-MODIFIED:20240528T085411Z
UID:10000002-1718179200-1721322000@cloisonsdumidi.com
SUMMARY:Test3
DESCRIPTION:
URL:https://cloisonsdumidi.com/event/test3/
CATEGORIES:test-categorie
END:VEVENT
BEGIN:VEVENT
DTSTART;TZID=Europe/Paris:20240528T080000
DTEND;TZID=Europe/Paris:20240528T170000
DTSTAMP:20260419T201458
CREATED:20240528T071900Z
LAST-MODIFIED:20240528T074419Z
UID:10000001-1716883200-1716915600@cloisonsdumidi.com
SUMMARY:Test
DESCRIPTION:
URL:https://cloisonsdumidi.com/event/test/
ATTACH;FMTTYPE=image/jpeg:https://cloisonsdumidi.com/wp-content/uploads/2024/05/cloisons-du-midi-savoir-faire-service.jpg
END:VEVENT
END:VCALENDAR